BEGIN:VCALENDAR
VERSION:2.0
PRODID:CTEP | Hoje Improvisamos
X-WR-CALNAME:CTEP | Hoje Improvisamos
X-WR-TIMEZONE:Europe/Lisbon
X-PUBLISHED-TTL:P1W
BEGIN:VTIMEZONE
TZID:Europe/Lisbon
X-LIC-LOCATION:Europe/Lisbon
END:VTIMEZONE
BEGIN:VEVENT
UID:69e8a3b8a8f38
DTSTART;VALUE=DATE:20260327
SEQUENCE:0
TRANSP:OPAQUE
DTEND;VALUE=DATE:20260328
SUMMARY:CTEP | Hoje Improvisamos
CLASS:PUBLIC
DESCRIPTION:&nbsp\; &nbsp\; &nbsp\;&nbsp\;
X-MICROSOFT-CDO-ALLDAYEVENT:TRUE
DTSTAMP:20260422T103224Z
END:VEVENT
END:VCALENDAR